BEGIN:VCALENDAR
VERSION:2.0
PRODID:-//https://www.kaimaipistolclub.org.nz///NONSGML kigkonsult.se iCalcreator 2.10.15//
METHOD:PUBLISH
BEGIN:VEVENT
UID:20260424T155350UTC-3301AWpKg4@https://www.kaimaipistolclub.org.nz/
DTSTAMP:20260424T155350Z
DESCRIPTION: https://www.kaimaipistolclub.org.nz/component/rseventspro/even
 t/48-ipsc-interclub
DTSTART:20290613T090000Z
DTEND:20290613T140000Z
LOCATION:Kaimai Pistol Club (426 Hot Springs Road\, Katikati 3178\, New Zea
 land)
SUMMARY:IPSC Interclub
URL:https://www.kaimaipistolclub.org.nz/component/rseventspro/event/48-ipsc
 -interclub
END:VEVENT
BEGIN:VEVENT
UID:20260424T155350UTC-3303zTEOUV@https://www.kaimaipistolclub.org.nz/
DTSTAMP:20260424T155350Z
DESCRIPTION: https://www.kaimaipistolclub.org.nz/component/rseventspro/even
 t/69-issf-21st-soa-issf-anniversary-hamilton-pc
DTSTART:20250214T090000Z
DTEND:20270214T160000Z
LOCATION:Kaimai Pistol Club (426 Hot Springs Road\, Katikati 3178\, New Zea
 land)
SUMMARY:ISSF: 21st SOA ISSF Anniversary Hamilton PC
URL:https://www.kaimaipistolclub.org.nz/component/rseventspro/event/69-issf
 -21st-soa-issf-anniversary-hamilton-pc
END:VEVENT
BEGIN:VEVENT
UID:20260424T155350UTC-3304VTaiOX@https://www.kaimaipistolclub.org.nz/
DTSTAMP:20260424T155350Z
DESCRIPTION: https://www.kaimaipistolclub.org.nz/component/rseventspro/even
 t/83-ipsc-club-day
DTSTART;VALUE=DATE:20290314
LOCATION:Kaimai Pistol Club (426 Hot Springs Road\, Katikati 3178\, New Zea
 land)
SUMMARY:IPSC: Club Day
URL:https://www.kaimaipistolclub.org.nz/component/rseventspro/event/83-ipsc
 -club-day
END:VEVENT
BEGIN:VEVENT
UID:20260424T155350UTC-3304XAhffZ@https://www.kaimaipistolclub.org.nz/
DTSTAMP:20260424T155350Z
DESCRIPTION: https://www.kaimaipistolclub.org.nz/component/rseventspro/even
 t/109-ipsc-club-day
DTSTART;VALUE=DATE:20310514
LOCATION:Kaimai Pistol Club (426 Hot Springs Road\, Katikati 3178\, New Zea
 land)
SUMMARY:IPSC: Club Day
URL:https://www.kaimaipistolclub.org.nz/component/rseventspro/event/109-ips
 c-club-day
END:VEVENT
BEGIN:VEVENT
UID:20260424T155350UTC-33057RrUsp@https://www.kaimaipistolclub.org.nz/
DTSTAMP:20260424T155350Z
DESCRIPTION: https://www.kaimaipistolclub.org.nz/component/rseventspro/even
 t/112-ipsc-club-day
DTSTART;VALUE=DATE:20280614
LOCATION:Kaimai Pistol Club (426 Hot Springs Road\, Katikati 3178\, New Zea
 land)
SUMMARY:IPSC: Club Day
URL:https://www.kaimaipistolclub.org.nz/component/rseventspro/event/112-ips
 c-club-day
END:VEVENT
BEGIN:VEVENT
UID:20260424T155350UTC-3306rEUCBb@https://www.kaimaipistolclub.org.nz/
DTSTAMP:20260424T155350Z
DESCRIPTION: https://www.kaimaipistolclub.org.nz/component/rseventspro/even
 t/115-ipsc-kaimai-3-gun-shoot
DTSTART;VALUE=DATE:20270414
LOCATION:Kaimai Pistol Club (426 Hot Springs Road\, Katikati 3178\, New Zea
 land)
SUMMARY:IPSC: Kaimai 3 Gun Shoot
URL:https://www.kaimaipistolclub.org.nz/component/rseventspro/event/115-ips
 c-kaimai-3-gun-shoot
END:VEVENT
BEGIN:VEVENT
UID:20260424T155350UTC-3307Ic5wVa@https://www.kaimaipistolclub.org.nz/
DTSTAMP:20260424T155350Z
DESCRIPTION: https://www.kaimaipistolclub.org.nz/component/rseventspro/even
 t/135-ipsc-club-day
DTSTART;VALUE=DATE:20300814
LOCATION:Kaimai Pistol Club (426 Hot Springs Road\, Katikati 3178\, New Zea
 land)
SUMMARY:IPSC: Club Day
URL:https://www.kaimaipistolclub.org.nz/component/rseventspro/event/135-ips
 c-club-day
END:VEVENT
BEGIN:VEVENT
UID:20260424T155350UTC-3307Azn5CX@https://www.kaimaipistolclub.org.nz/
DTSTAMP:20260424T155350Z
DESCRIPTION: https://www.kaimaipistolclub.org.nz/component/rseventspro/even
 t/139-ipsc-double-tap-apc-club-day
DTSTART;VALUE=DATE:20260714
LOCATION:Kaimai Pistol Club (426 Hot Springs Road\, Katikati 3178\, New Zea
 land)
SUMMARY:IPSC: Double Tap APC / Club Day
URL:https://www.kaimaipistolclub.org.nz/component/rseventspro/event/139-ips
 c-double-tap-apc-club-day
END:VEVENT
BEGIN:VEVENT
UID:20260424T155350UTC-3308kSTNUX@https://www.kaimaipistolclub.org.nz/
DTSTAMP:20260424T155350Z
DESCRIPTION: https://www.kaimaipistolclub.org.nz/component/rseventspro/even
 t/140-ipsc-double-tap-apc
DTSTART;VALUE=DATE:20270714
LOCATION:Kaimai Pistol Club (426 Hot Springs Road\, Katikati 3178\, New Zea
 land)
SUMMARY:IPSC: Double Tap APC
URL:https://www.kaimaipistolclub.org.nz/component/rseventspro/event/140-ips
 c-double-tap-apc
END:VEVENT
BEGIN:VEVENT
UID:20260424T155350UTC-3309zNup5h@https://www.kaimaipistolclub.org.nz/
DTSTAMP:20260424T155350Z
DESCRIPTION: https://www.kaimaipistolclub.org.nz/component/rseventspro/even
 t/161-ipsc-club-day
DTSTART;VALUE=DATE:20291114
LOCATION:Kaimai Pistol Club (426 Hot Springs Road\, Katikati 3178\, New Zea
 land)
SUMMARY:IPSC: Club Day
URL:https://www.kaimaipistolclub.org.nz/component/rseventspro/event/161-ips
 c-club-day
END:VEVENT
BEGIN:VEVENT
UID:20260424T155350UTC-3310Vul59N@https://www.kaimaipistolclub.org.nz/
DTSTAMP:20260424T155350Z
DESCRIPTION:IPSC Nationals Rotorua PC-27-29 November https://www.kaimaipist
 olclub.org.nz/component/rseventspro/event/166-ipsc-nationals-rotorua
DTSTART;VALUE=DATE:20261114
LOCATION:Kaimai Pistol Club (426 Hot Springs Road\, Katikati 3178\, New Zea
 land)
SUMMARY:IPSC: Nationals Rotorua
URL:https://www.kaimaipistolclub.org.nz/component/rseventspro/event/166-ips
 c-nationals-rotorua
END:VEVENT
BEGIN:VEVENT
UID:20260424T155350UTC-3310F2859f@https://www.kaimaipistolclub.org.nz/
DTSTAMP:20260424T155350Z
DESCRIPTION:Jack Davis Memorial Shoot 0900hrs at TECT Park https://www.kaim
 aipistolclub.org.nz/component/rseventspro/event/171-jdavis-memorial-shoot-
 ipsc
DTSTART;VALUE=DATE:20280614
LOCATION:Tauranga Pistol Club (Pyes Pa\, New Zealand)
SUMMARY: JDavis  Memorial Shoot -IPSC
URL:https://www.kaimaipistolclub.org.nz/component/rseventspro/event/171-jda
 vis-memorial-shoot-ipsc
END:VEVENT
BEGIN:VEVENT
UID:20260424T155350UTC-3311rV4ibb@https://www.kaimaipistolclub.org.nz/
DTSTAMP:20260424T155350Z
DESCRIPTION:Weekly IPSC Shoot\nShooting starts 10:00am\nUsually runs until 
 1:00pm https://www.kaimaipistolclub.org.nz/component/rseventspro/event/209
 -ipsc
DTSTART:20161015T210000Z
DTEND:20161015T230000Z
LOCATION:Kaimai Pistol Club (426 Hot Springs Road\, Katikati 3178\, New Zea
 land)
SUMMARY:IPSC
URL:https://www.kaimaipistolclub.org.nz/component/rseventspro/event/209-ips
 c
END:VEVENT
BEGIN:VEVENT
UID:20260424T155350UTC-3312KFUc7t@https://www.kaimaipistolclub.org.nz/
DTSTAMP:20260424T155350Z
DESCRIPTION:Service Pistol https://www.kaimaipistolclub.org.nz/component/rs
 eventspro/event/243-issf-service-pistol
DTSTART:20170617T210000Z
DTEND:20170618T010000Z
LOCATION:Kaimai Pistol Club (426 Hot Springs Road\, Katikati 3178\, New Zea
 land)
SUMMARY:ISSF - Service Pistol
URL:https://www.kaimaipistolclub.org.nz/component/rseventspro/event/243-iss
 f-service-pistol
END:VEVENT
BEGIN:VEVENT
UID:20260424T155350UTC-3313UG7g7f@https://www.kaimaipistolclub.org.nz/
DTSTAMP:20260424T155350Z
DESCRIPTION:ISSF-Service Pistol https://www.kaimaipistolclub.org.nz/compone
 nt/rseventspro/event/5207-service-pistol
DTSTART:20250719T210000Z
DTEND:20260719T000000Z
LOCATION:Kaimai Pistol Club (426 Hot Springs Road\, Katikati 3178\, New Zea
 land)
SUMMARY:Service Pistol
URL:https://www.kaimaipistolclub.org.nz/component/rseventspro/event/5207-se
 rvice-pistol
END:VEVENT
END:VCALENDAR
