BEGIN:VCALENDAR
VERSION:2.0
PRODID:-//https://www.kaimaipistolclub.org.nz///NONSGML kigkonsult.se iCalcreator 2.10.15//
METHOD:PUBLISH
BEGIN:VEVENT
UID:20260424T140515UTC-78553Vzp32@https://www.kaimaipistolclub.org.nz/
DTSTAMP:20260424T140515Z
DESCRIPTION:ISSF-Service Pistol https://www.kaimaipistolclub.org.nz/compone
 nt/rseventspro/event/245-service-pistol
DTSTART:20180715T210000Z
DTEND:20190715T000000Z
LOCATION:Kaimai Pistol Club (426 Hot Springs Road\, Katikati 3178\, New Zea
 land)
SUMMARY:Service Pistol
URL:https://www.kaimaipistolclub.org.nz/component/rseventspro/event/245-ser
 vice-pistol
END:VEVENT
END:VCALENDAR
