BEGIN:VCALENDAR
VERSION:2.0
PRODID:-//https://www.kaimaipistolclub.org.nz///NONSGML kigkonsult.se iCalcreator 2.10.15//
METHOD:PUBLISH
BEGIN:VEVENT
UID:20260424T140651UTC-6663tcpGoC@https://www.kaimaipistolclub.org.nz/
DTSTAMP:20260424T140651Z
DESCRIPTION:Weekly IPSC Shoot\nShooting starts 10:00am\nUsually runs until 
 1:00pm https://www.kaimaipistolclub.org.nz/component/rseventspro/event/373
 -ipsc
DTSTART:20190104T210000Z
DTEND:20190104T230000Z
LOCATION:Kaimai Pistol Club (426 Hot Springs Road\, Katikati 3178\, New Zea
 land)
SUMMARY:IPSC
URL:https://www.kaimaipistolclub.org.nz/component/rseventspro/event/373-ips
 c
END:VEVENT
END:VCALENDAR
