BEGIN:VCALENDAR
VERSION:2.0
PRODID:-//https://www.kaimaipistolclub.org.nz///NONSGML kigkonsult.se iCalcreator 2.10.15//
METHOD:PUBLISH
BEGIN:VEVENT
UID:20260424T141032UTC-1782vXAwxd@https://www.kaimaipistolclub.org.nz/
DTSTAMP:20260424T141032Z
DESCRIPTION:Regular Pistol Carbine Shoot\nSame stages as IPSC pistol but pi
 stol shooters will be graded as Standard and Pistol Carbines as Open and t
 wo sets of reports the same as the IPSC shooters get now will be distribut
 ed. https://www.kaimaipistolclub.org.nz/component/rseventspro/event/4833-p
 istol-carbine
DTSTART:20190215T210000Z
DTEND:20190216T000000Z
LOCATION:Kaimai Pistol Club (426 Hot Springs Road\, Katikati 3178\, New Zea
 land)
SUMMARY:Pistol Carbine
URL:https://www.kaimaipistolclub.org.nz/component/rseventspro/event/4833-pi
 stol-carbine
END:VEVENT
END:VCALENDAR
