BEGIN:VCALENDAR
VERSION:2.0
PRODID:-//https://www.kaimaipistolclub.org.nz///NONSGML kigkonsult.se iCalcreator 2.10.15//
METHOD:PUBLISH
BEGIN:VEVENT
UID:20260424T141156UTC-61103bjNUE@https://www.kaimaipistolclub.org.nz/
DTSTAMP:20260424T141156Z
DESCRIPTION: https://www.kaimaipistolclub.org.nz/component/rseventspro/even
 t/54-service-club-day
DTSTART;VALUE=DATE:20190114
LOCATION:Kaimai Pistol Club (426 Hot Springs Road\, Katikati 3178\, New Zea
 land)
SUMMARY:Service: Club Day
URL:https://www.kaimaipistolclub.org.nz/component/rseventspro/event/54-serv
 ice-club-day
END:VEVENT
END:VCALENDAR
